BEGIN:VCALENDAR
VERSION:2.0
PRODID:-//Eventin//Event Calendar//EN
CALSCALE:GREGORIAN
METHOD:PUBLISH
BEGIN:VEVENT
UID:19b8e795c0af2f6ce0baa64b84d60bdf@smaragd-plesnistudio.si
SUMMARY:SMARAGDOV 4. ROJSTNI DAN
DESCRIPTION:
LOCATION:Sokolski dom Škofja Loka\, Mestni trg 17\, 4220 Škofja Loka
DTSTAMP:20260424T104420Z
DTSTART:20260605T143000Z
DTEND:20260605T230000Z
END:VEVENT
END:VCALENDAR
